BEGIN:VCALENDAR
VERSION:2.0
PRODID:-//North Central Florida Alcoholics Anonymous - ECPv6.15.20//NONSGML v1.0//EN
CALSCALE:GREGORIAN
METHOD:PUBLISH
X-WR-CALNAME:North Central Florida Alcoholics Anonymous
X-ORIGINAL-URL:https://aagainesville.org
X-WR-CALDESC:Events for North Central Florida Alcoholics Anonymous
REFRESH-INTERVAL;VALUE=DURATION:PT1H
X-Robots-Tag:noindex
X-PUBLISHED-TTL:PT1H
BEGIN:VTIMEZONE
TZID:America/New_York
BEGIN:DAYLIGHT
TZOFFSETFROM:-0500
TZOFFSETTO:-0400
TZNAME:EDT
DTSTART:20240310T070000
END:DAYLIGHT
BEGIN:STANDARD
TZOFFSETFROM:-0400
TZOFFSETTO:-0500
TZNAME:EST
DTSTART:20241103T060000
END:STANDARD
BEGIN:DAYLIGHT
TZOFFSETFROM:-0500
TZOFFSETTO:-0400
TZNAME:EDT
DTSTART:20250309T070000
END:DAYLIGHT
BEGIN:STANDARD
TZOFFSETFROM:-0400
TZOFFSETTO:-0500
TZNAME:EST
DTSTART:20251102T060000
END:STANDARD
BEGIN:DAYLIGHT
TZOFFSETFROM:-0500
TZOFFSETTO:-0400
TZNAME:EDT
DTSTART:20260308T070000
END:DAYLIGHT
BEGIN:STANDARD
TZOFFSETFROM:-0400
TZOFFSETTO:-0500
TZNAME:EST
DTSTART:20261101T060000
END:STANDARD
BEGIN:DAYLIGHT
TZOFFSETFROM:-0500
TZOFFSETTO:-0400
TZNAME:EDT
DTSTART:20270314T070000
END:DAYLIGHT
BEGIN:STANDARD
TZOFFSETFROM:-0400
TZOFFSETTO:-0500
TZNAME:EST
DTSTART:20271107T060000
END:STANDARD
END:VTIMEZONE
BEGIN:VEVENT
DTSTART;TZID=America/New_York:20260502T100000
DTEND;TZID=America/New_York:20260502T140000
DTSTAMP:20260425T115006
CREATED:20260214T235439Z
LAST-MODIFIED:20260214T235439Z
UID:6063-1777716000-1777730400@aagainesville.org
SUMMARY:District 14 GSR Workshop
DESCRIPTION:
URL:https://aagainesville.org/event/district-14-gsr-workshop/
LOCATION:Triangle Club\, 1005 SE 4th Ave.\, Gainesville\, Florida
CATEGORIES:Workshop
ATTACH;FMTTYPE=image/png:https://aagainesville.org/wp-content/uploads/2026/02/2.png
END:VEVENT
BEGIN:VEVENT
DTSTART;VALUE=DATE:20260424
DTEND;VALUE=DATE:20260427
DTSTAMP:20260425T115006
CREATED:20251121T023010Z
LAST-MODIFIED:20251121T023402Z
UID:5943-1776988800-1777247999@aagainesville.org
SUMMARY:Prodigal Sons V Central Florida AA Men’s 12-Step Retreat\, SPRING 2026
DESCRIPTION:
URL:https://aagainesville.org/event/prodigal-sons-v-central-florida-aa-mens-12-step-retreat-spring-2026/
CATEGORIES:Workshop
ATTACH;FMTTYPE=image/png:https://aagainesville.org/wp-content/uploads/2025/11/PS5_flyer-scaled.png
END:VEVENT
BEGIN:VEVENT
DTSTART;TZID=America/New_York:20260418T110000
DTEND;TZID=America/New_York:20260418T140000
DTSTAMP:20260425T115006
CREATED:20260325T142832Z
LAST-MODIFIED:20260325T142832Z
UID:6099-1776510000-1776520800@aagainesville.org
SUMMARY:Open House - North Central Florida Intergroup
DESCRIPTION:
URL:https://aagainesville.org/event/open-house-north-central-florida-intergroup/
ATTACH;FMTTYPE=image/png:https://aagainesville.org/wp-content/uploads/2026/03/open-house.png
END:VEVENT
BEGIN:VEVENT
DTSTART;VALUE=DATE:20260410
DTEND;VALUE=DATE:20260413
DTSTAMP:20260425T115006
CREATED:20260131T174019Z
LAST-MODIFIED:20260131T174019Z
UID:6006-1775779200-1776038399@aagainesville.org
SUMMARY:North Florida Area Conference - Area 14 Assembly
DESCRIPTION:
URL:https://aagainesville.org/event/north-florida-area-conference-area-14-assembly-2/
LOCATION:Orlando Marriott Lake Mary\, 1501 International Parkway\, Lake Mary\, FL\, 32746\, United States
CATEGORIES:Conference
ATTACH;FMTTYPE=image/png:https://aagainesville.org/wp-content/uploads/2026/01/NFAC-Area14.png
END:VEVENT
BEGIN:VEVENT
DTSTART;TZID=America/New_York:20260405T110000
DTEND;TZID=America/New_York:20260405T143000
DTSTAMP:20260425T115006
CREATED:20260124T165634Z
LAST-MODIFIED:20260212T163203Z
UID:6003-1775386800-1775399400@aagainesville.org
SUMMARY:Easter Speaker Meeting - Sirens of Serenity
DESCRIPTION:
URL:https://aagainesville.org/event/easter-speaker-meeting-sirens-of-serenity/
LOCATION:Triangle Club\, 1005 SE 4th Ave.\, Gainesville\, Florida
CATEGORIES:Speaker Meeting
ATTACH;FMTTYPE=image/png:https://aagainesville.org/wp-content/uploads/2026/01/easter.png
END:VEVENT
BEGIN:VEVENT
DTSTART;VALUE=DATE:20260405
DTEND;VALUE=DATE:20260406
DTSTAMP:20260425T115006
CREATED:20260401T221631Z
LAST-MODIFIED:20260401T221631Z
UID:6110-1775347200-1775433599@aagainesville.org
SUMMARY:Secular AA's Global Speaker Tour
DESCRIPTION:
URL:https://aagainesville.org/event/secular-aas-global-speaker-tour/
CATEGORIES:Speaker Meeting
ATTACH;FMTTYPE=image/png:https://aagainesville.org/wp-content/uploads/2026/04/secular-global-speaker.png
END:VEVENT
BEGIN:VEVENT
DTSTART;VALUE=DATE:20260331
DTEND;VALUE=DATE:20260401
DTSTAMP:20260425T115006
CREATED:20260212T162300Z
LAST-MODIFIED:20260212T163236Z
UID:6048-1774915200-1775001599@aagainesville.org
SUMMARY:AA Pamphlet Sumission - Stories from Transgender Alcoholics in A.A. (Due 3/31/2026)
DESCRIPTION:
URL:https://aagainesville.org/event/aa-pamphlet-sumission-stories-from-transgender-alcoholics-in-a-a-due-3-31-2026/
CATEGORIES:Request for submission
ATTACH;FMTTYPE=image/png:https://aagainesville.org/wp-content/uploads/2026/02/transgender-stories.png
END:VEVENT
BEGIN:VEVENT
DTSTART;TZID=America/New_York:20260320T130000
DTEND;TZID=America/New_York:20260322T110000
DTSTAMP:20260425T115006
CREATED:20260131T174539Z
LAST-MODIFIED:20260219T175253Z
UID:6010-1774011600-1774177200@aagainesville.org
SUMMARY:The Rock - Atlanta Men's Workshop
DESCRIPTION:
URL:https://aagainesville.org/event/the-rock-atlanta-mens-workshop/
CATEGORIES:Retreat
ATTACH;FMTTYPE=image/png:https://aagainesville.org/wp-content/uploads/2026/02/rock-2026-spring.png
END:VEVENT
BEGIN:VEVENT
DTSTART;TZID=America/New_York:20260317T133000
DTEND;TZID=America/New_York:20260317T190000
DTSTAMP:20260425T115006
CREATED:20260215T000212Z
LAST-MODIFIED:20260222T191107Z
UID:6068-1773754200-1773774000@aagainesville.org
SUMMARY:St. Patrick's Day @ Triangle Club
DESCRIPTION:
URL:https://aagainesville.org/event/st-patricks-day-triangle-club/
LOCATION:Triangle Club\, 1005 SE 4th Ave.\, Gainesville\, Florida
CATEGORIES:Workshop
ATTACH;FMTTYPE=image/jpeg:https://aagainesville.org/wp-content/uploads/2026/02/IMG_7978.jpeg
END:VEVENT
BEGIN:VEVENT
DTSTART;TZID=America/New_York:20260314T080000
DTEND;TZID=America/New_York:20260314T170000
DTSTAMP:20260425T115006
CREATED:20260214T234540Z
LAST-MODIFIED:20260215T205046Z
UID:6060-1773475200-1773507600@aagainesville.org
SUMMARY:Pre-Conference with Delegate Lori P
DESCRIPTION:
URL:https://aagainesville.org/event/pre-conference-with-delegate-lori-p/
LOCATION:Triangle Club\, 1005 SE 4th Ave.\, Gainesville\, Florida
ATTACH;FMTTYPE=image/png:https://aagainesville.org/wp-content/uploads/2026/02/1.png
END:VEVENT
BEGIN:VEVENT
DTSTART;VALUE=DATE:20260313
DTEND;VALUE=DATE:20260316
DTSTAMP:20260425T115006
CREATED:20260112T163357Z
LAST-MODIFIED:20260112T163357Z
UID:5988-1773360000-1773619199@aagainesville.org
SUMMARY:Soberstock 2026
DESCRIPTION:
URL:https://aagainesville.org/event/soberstock-2026/
CATEGORIES:Retreat
ATTACH;FMTTYPE=image/png:https://aagainesville.org/wp-content/uploads/2026/01/soberstock.png
END:VEVENT
BEGIN:VEVENT
DTSTART;TZID=America/New_York:20260306T180000
DTEND;TZID=America/New_York:20260307T170000
DTSTAMP:20260425T115006
CREATED:20260212T160330Z
LAST-MODIFIED:20260212T160330Z
UID:6039-1772820000-1772902800@aagainesville.org
SUMMARY:The Big Book Comes Alive 2026
DESCRIPTION:
URL:https://aagainesville.org/event/the-big-book-comes-alive-2026/
CATEGORIES:Workshop
ATTACH;FMTTYPE=image/png:https://aagainesville.org/wp-content/uploads/2026/02/The-Big-Book-Comes-Alive.png
END:VEVENT
BEGIN:VEVENT
DTSTART;TZID=America/New_York:20260221T130000
DTEND;TZID=America/New_York:20260221T160000
DTSTAMP:20260425T115006
CREATED:20260212T160101Z
LAST-MODIFIED:20260212T160101Z
UID:6035-1771678800-1771689600@aagainesville.org
SUMMARY:Literature Corrections Workshop (Jacksonville)
DESCRIPTION:
URL:https://aagainesville.org/event/literature-corrections-workshop-jacksonville/
CATEGORIES:Workshop
END:VEVENT
BEGIN:VEVENT
DTSTART;TZID=America/New_York:20260214T123000
DTEND;TZID=America/New_York:20260214T150000
DTSTAMP:20260425T115006
CREATED:20251123T015645Z
LAST-MODIFIED:20251212T152434Z
UID:5950-1771072200-1771081200@aagainesville.org
SUMMARY:Valentine’s Day Speaker Meeting & Spaghetti Dinner
DESCRIPTION:
URL:https://aagainesville.org/event/valentines-day-speaker-meeting-spaghetti-dinner/
LOCATION:Triangle Club\, 1005 SE 4th Ave.\, Gainesville\, Florida
CATEGORIES:Dinner
ATTACH;FMTTYPE=image/png:https://aagainesville.org/wp-content/uploads/2025/11/velantines-dinner.png
END:VEVENT
BEGIN:VEVENT
DTSTART;VALUE=DATE:20260206
DTEND;VALUE=DATE:20260209
DTSTAMP:20260425T115006
CREATED:20251011T210722Z
LAST-MODIFIED:20251011T210722Z
UID:5928-1770336000-1770595199@aagainesville.org
SUMMARY:Winter Holiday 44th Annual District 9 AA Convention
DESCRIPTION:
URL:https://aagainesville.org/event/winter-holiday-44th-annual-district-9-aa-convention/
ATTACH;FMTTYPE=image/png:https://aagainesville.org/wp-content/uploads/2025/10/Winter-Holiday-2026-Flyer-1.png
END:VEVENT
BEGIN:VEVENT
DTSTART;VALUE=DATE:20260129
DTEND;VALUE=DATE:20260202
DTSTAMP:20260425T115006
CREATED:20260124T165207Z
LAST-MODIFIED:20260131T175403Z
UID:5997-1769644800-1769990399@aagainesville.org
SUMMARY:2026 Space Coast Round Up
DESCRIPTION:2026 Scru Flyer BW-SCRU26 Program Schedule Handout FINAL 011426BW-SCRU26 Program Schedule Handout FINAL 011426SCRU26 Program AL-ANON Insert Final 011326 (1)
URL:https://aagainesville.org/event/2026-space-coast-round-up/
END:VEVENT
BEGIN:VEVENT
DTSTART;VALUE=DATE:20260123
DTEND;VALUE=DATE:20260126
DTSTAMP:20260425T115006
CREATED:20250916T135501Z
LAST-MODIFIED:20250916T135501Z
UID:5883-1769126400-1769385599@aagainesville.org
SUMMARY:Southern States Women's Conference
DESCRIPTION:
URL:https://aagainesville.org/event/southern-states-womens-conference-2/
ATTACH;FMTTYPE=image/png:https://aagainesville.org/wp-content/uploads/2025/09/Scan-Sep-11-2025-1.png
END:VEVENT
BEGIN:VEVENT
DTSTART;TZID=America/New_York:20260117T120000
DTEND;TZID=America/New_York:20260117T200000
DTSTAMP:20260425T115006
CREATED:20251121T221811Z
LAST-MODIFIED:20251121T221811Z
UID:5946-1768651200-1768680000@aagainesville.org
SUMMARY:Special Online Forum for Deaf AA Members
DESCRIPTION:
URL:https://aagainesville.org/event/special-online-forum-for-deaf-aa-members/
ATTACH;FMTTYPE=image/png:https://aagainesville.org/wp-content/uploads/2025/11/aa-deaf-forum-flyer-scaled.png
END:VEVENT
BEGIN:VEVENT
DTSTART;TZID=America/New_York:20260110T160000
DTEND;TZID=America/New_York:20260110T200000
DTSTAMP:20260425T115006
CREATED:20251221T205523Z
LAST-MODIFIED:20251221T205523Z
UID:5976-1768060800-1768075200@aagainesville.org
SUMMARY:18th Annual Lawtey Spaghetti Dinner
DESCRIPTION:Intergroup has tickets available for this event!
URL:https://aagainesville.org/event/18th-annual-lawtey-spaghetti-dinner/
CATEGORIES:Dinner
ATTACH;FMTTYPE=image/jpeg:https://aagainesville.org/wp-content/uploads/2025/12/spaghetti.jpg
END:VEVENT
BEGIN:VEVENT
DTSTART;VALUE=DATE:20260104
DTEND;VALUE=DATE:20260106
DTSTAMP:20260425T115006
CREATED:20251212T160200Z
LAST-MODIFIED:20251212T160200Z
UID:5970-1767484800-1767657599@aagainesville.org
SUMMARY:Secular AA's Global Speaker Tour Presents
DESCRIPTION:
URL:https://aagainesville.org/event/secular-aas-global-speaker-tour-presents/
CATEGORIES:Speaker Meeting,Virtual
ATTACH;FMTTYPE=image/avif:https://aagainesville.org/wp-content/uploads/2025/12/secular.avif
END:VEVENT
BEGIN:VEVENT
DTSTART;TZID=America/New_York:20251122T160000
DTEND;TZID=America/New_York:20251122T210000
DTSTAMP:20260425T115006
CREATED:20251011T211157Z
LAST-MODIFIED:20251011T211157Z
UID:5932-1763827200-1763845200@aagainesville.org
SUMMARY:Gratitude Dinner 2026
DESCRIPTION:
URL:https://aagainesville.org/event/gratitude-dinner-2026/
LOCATION:Trinity United Methodist Church\, 4000 NW 53rd Ave.\, Gainesville\, FL\, 32653\, United States
ATTACH;FMTTYPE=image/png:https://aagainesville.org/wp-content/uploads/2025/10/Gratitude-Dinner-FlierFINAL-scaled.png
END:VEVENT
BEGIN:VEVENT
DTSTART;VALUE=DATE:20251114
DTEND;VALUE=DATE:20251117
DTSTAMP:20260425T115006
CREATED:20250623T223537Z
LAST-MODIFIED:20250623T223537Z
UID:5803-1763078400-1763337599@aagainesville.org
SUMMARY:Prodigal Sons V  Central Florida AA Men’s 12-Step Retreat\,  FALL 2025
DESCRIPTION:
URL:https://aagainesville.org/event/prodigal-sons-v-central-florida-aa-mens-12-step-retreat-fall-2025/
ATTACH;FMTTYPE=image/png:https://aagainesville.org/wp-content/uploads/2025/06/PS5-flyer-1.png
END:VEVENT
BEGIN:VEVENT
DTSTART;VALUE=DATE:20251103
DTEND;VALUE=DATE:20251106
DTSTAMP:20260425T115006
CREATED:20250525T011324Z
LAST-MODIFIED:20250525T011423Z
UID:5778-1762128000-1762387199@aagainesville.org
SUMMARY:Matt Talbot W-86 Women's Retreat
DESCRIPTION:
URL:https://aagainesville.org/event/matt-talbot-w-86-womens-retreat/
ATTACH;FMTTYPE=image/png:https://aagainesville.org/wp-content/uploads/2025/05/Matt-Talbot-Save-The-Date-1.png
END:VEVENT
BEGIN:VEVENT
DTSTART;TZID=America/New_York:20251025T140000
DTEND;TZID=America/New_York:20251025T160000
DTSTAMP:20260425T115006
CREATED:20250922T125632Z
LAST-MODIFIED:20250922T125632Z
UID:5886-1761400800-1761408000@aagainesville.org
SUMMARY:District 14 Service Fair
DESCRIPTION:
URL:https://aagainesville.org/event/district-14-service-fair/
LOCATION:Triangle Club\, 1005 SE 4th Ave.\, Gainesville\, Florida
ATTACH;FMTTYPE=image/png:https://aagainesville.org/wp-content/uploads/2025/09/2025Giddy-up-Service-Fair-FNL0912-1.png
END:VEVENT
BEGIN:VEVENT
DTSTART;TZID=America/New_York:20251004T210000
DTEND;TZID=America/New_York:20251004T230000
DTSTAMP:20260425T115006
CREATED:20250908T131817Z
LAST-MODIFIED:20250908T132113Z
UID:5865-1759611600-1759618800@aagainesville.org
SUMMARY:Ice Cream and Karaoke - Area 14 Assembly
DESCRIPTION:
URL:https://aagainesville.org/event/north-florida-area-conference-area-14-assembly/
LOCATION:Orlando Marriott Lake Mary\, 1501 International Parkway\, Lake Mary\, FL\, 32746\, United States
ATTACH;FMTTYPE=image/png:https://aagainesville.org/wp-content/uploads/2025/09/October-Assembly-Ice-Cream-and-Karaoke-Party-Flyer-1-1.png
END:VEVENT
BEGIN:VEVENT
DTSTART;VALUE=DATE:20251003
DTEND;VALUE=DATE:20251006
DTSTAMP:20260425T115006
CREATED:20250316T211121Z
LAST-MODIFIED:20250316T211121Z
UID:5735-1759449600-1759708799@aagainesville.org
SUMMARY:Area 14 Assembly
DESCRIPTION:
URL:https://aagainesville.org/event/area-14-assembly-3/
ATTACH;FMTTYPE=image/png:https://aagainesville.org/wp-content/uploads/2025/03/Area-Assembly-Flyer-1-1.png
END:VEVENT
BEGIN:VEVENT
DTSTART;VALUE=DATE:20250919
DTEND;VALUE=DATE:20250922
DTSTAMP:20260425T115006
CREATED:20250525T012108Z
LAST-MODIFIED:20250525T012108Z
UID:5782-1758240000-1758499199@aagainesville.org
SUMMARY:ICSAA 2025
DESCRIPTION:International Conference of Secular AA
URL:https://aagainesville.org/event/icsaa-2025/
ATTACH;FMTTYPE=image/jpeg:https://aagainesville.org/wp-content/uploads/2025/05/786DCB54-A6D5-4710-946C-E1618A8A5983.jpeg
END:VEVENT
BEGIN:VEVENT
DTSTART;TZID=America/New_York:20250913T130000
DTEND;TZID=America/New_York:20250913T180000
DTSTAMP:20260425T115006
CREATED:20250816T200633Z
LAST-MODIFIED:20250816T200633Z
UID:5855-1757768400-1757786400@aagainesville.org
SUMMARY:12th Annual St. Cloud Intergroup AA Convention
DESCRIPTION:
URL:https://aagainesville.org/event/12th-annual-st-cloud-intergroup-aa-convention/
ATTACH;FMTTYPE=image/jpeg:https://aagainesville.org/wp-content/uploads/2025/08/AA-SCI.jpg
END:VEVENT
BEGIN:VEVENT
DTSTART;TZID=America/New_York:20250907T130000
DTEND;TZID=America/New_York:20250907T173000
DTSTAMP:20260425T115006
CREATED:20250813T131621Z
LAST-MODIFIED:20250813T131621Z
UID:5849-1757250000-1757266200@aagainesville.org
SUMMARY:3rd Annual NRT BBQ & Step 1\, 2\, 3 Workshop
DESCRIPTION:
URL:https://aagainesville.org/event/3rd-annual-nrt-bbq-step-1-2-3-workshop/
ATTACH;FMTTYPE=image/png:https://aagainesville.org/wp-content/uploads/2025/08/2025-NRT-Annual-BBQ-Workshop-Flyer-1.png
END:VEVENT
BEGIN:VEVENT
DTSTART;VALUE=DATE:20250828
DTEND;VALUE=DATE:20250901
DTSTAMP:20260425T115006
CREATED:20250816T200432Z
LAST-MODIFIED:20250816T200432Z
UID:5852-1756339200-1756684799@aagainesville.org
SUMMARY:The 65th ICYPAA
DESCRIPTION:
URL:https://aagainesville.org/event/the-65th-icypaa-2/
ATTACH;FMTTYPE=image/jpeg:https://aagainesville.org/wp-content/uploads/2025/08/AA-ICYPAA-1.jpg
END:VEVENT
END:VCALENDAR