BEGIN:VCALENDAR
VERSION:2.0
PRODID:-//North Central Florida Alcoholics Anonymous - ECPv6.15.20//NONSGML v1.0//EN
CALSCALE:GREGORIAN
METHOD:PUBLISH
X-WR-CALNAME:North Central Florida Alcoholics Anonymous
X-ORIGINAL-URL:https://aagainesville.org
X-WR-CALDESC:Events for North Central Florida Alcoholics Anonymous
REFRESH-INTERVAL;VALUE=DURATION:PT1H
X-Robots-Tag:noindex
X-PUBLISHED-TTL:PT1H
BEGIN:VTIMEZONE
TZID:America/New_York
BEGIN:DAYLIGHT
TZOFFSETFROM:-0500
TZOFFSETTO:-0400
TZNAME:EDT
DTSTART:20230312T070000
END:DAYLIGHT
BEGIN:STANDARD
TZOFFSETFROM:-0400
TZOFFSETTO:-0500
TZNAME:EST
DTSTART:20231105T060000
END:STANDARD
BEGIN:DAYLIGHT
TZOFFSETFROM:-0500
TZOFFSETTO:-0400
TZNAME:EDT
DTSTART:20240310T070000
END:DAYLIGHT
BEGIN:STANDARD
TZOFFSETFROM:-0400
TZOFFSETTO:-0500
TZNAME:EST
DTSTART:20241103T060000
END:STANDARD
BEGIN:DAYLIGHT
TZOFFSETFROM:-0500
TZOFFSETTO:-0400
TZNAME:EDT
DTSTART:20250309T070000
END:DAYLIGHT
BEGIN:STANDARD
TZOFFSETFROM:-0400
TZOFFSETTO:-0500
TZNAME:EST
DTSTART:20251102T060000
END:STANDARD
BEGIN:DAYLIGHT
TZOFFSETFROM:-0500
TZOFFSETTO:-0400
TZNAME:EDT
DTSTART:20260308T070000
END:DAYLIGHT
BEGIN:STANDARD
TZOFFSETFROM:-0400
TZOFFSETTO:-0500
TZNAME:EST
DTSTART:20261101T060000
END:STANDARD
END:VTIMEZONE
BEGIN:VEVENT
DTSTART;VALUE=DATE:20250718
DTEND;VALUE=DATE:20250721
DTSTAMP:20260425T122400
CREATED:20250316T211041Z
LAST-MODIFIED:20250316T211041Z
UID:5733-1752796800-1753055999@aagainesville.org
SUMMARY:Area 14 Assembly
DESCRIPTION:
URL:https://aagainesville.org/event/area-14-assembly-2/
ATTACH;FMTTYPE=image/png:https://aagainesville.org/wp-content/uploads/2025/03/Area-Assembly-Flyer-1-1.png
END:VEVENT
BEGIN:VEVENT
DTSTART;TZID=America/New_York:20250713T080000
DTEND;TZID=America/New_York:20250713T090000
DTSTAMP:20260425T122400
CREATED:20250623T224103Z
LAST-MODIFIED:20250623T224103Z
UID:5806-1752393600-1752397200@aagainesville.org
SUMMARY:Eye Opener Online Speaker Sunday
DESCRIPTION:
URL:https://aagainesville.org/event/eye-opener-online-speaker-sunday/
ATTACH;FMTTYPE=image/png:https://aagainesville.org/wp-content/uploads/2025/06/1000062356.png
END:VEVENT
BEGIN:VEVENT
DTSTART;TZID=America/New_York:20250712T100000
DTEND;TZID=America/New_York:20250712T170000
DTSTAMP:20260425T122400
CREATED:20250623T222235Z
LAST-MODIFIED:20250623T222235Z
UID:5796-1752314400-1752339600@aagainesville.org
SUMMARY:New Life Group Speak-a-Thon
DESCRIPTION:
URL:https://aagainesville.org/event/new-life-group-speak-a-thon/
ATTACH;FMTTYPE=image/jpeg:https://aagainesville.org/wp-content/uploads/2025/06/1000043452.jpg
END:VEVENT
BEGIN:VEVENT
DTSTART;VALUE=DATE:20250703
DTEND;VALUE=DATE:20250707
DTSTAMP:20260425T122400
CREATED:20250623T225027Z
LAST-MODIFIED:20250623T225027Z
UID:5809-1751500800-1751846399@aagainesville.org
SUMMARY:IC25 Chit-Chat
DESCRIPTION:IC25 Chit-Chat #13 \nTrusted Servants in the general service structure\, as you are inspiring your groups to consider coming to the 2025 International Convention…your link in the communication chain to get this message to the top of the triangle\, our groups\, is so important.  \n\n\n\n\n\n\n\nMerci de nous aider à partager cette information. \nBavardage sur le CI #13 \nAux serviteurs de confiance de la structure des Services généraux : vous encouragez vos groupes à se rendre au Congrès international de 2025\, et vous êtes un maillon essentiel de la chaîne de communication qui fait parvenir ce message à vos groupes\, le haut de notre triangle. \n\n\n\n\n\n\n\nLes pedimos su colaboración para compartir esta información. \nMensaje sobre la Convención Internacional de 2025 #13 \nServidores de confianza de toda la estructura de servicios generales que inspiran a sus grupos a contemplar la idea de asistir a la Convención Internacional de 2025… son un eslabón muy importante en la cadena de comunicación para hacer llegar este mensaje a la cima del triángulo: nuestros grupos. Por favor\, compartan esta información.
URL:https://aagainesville.org/event/ic25-chit-chat/
ATTACH;FMTTYPE=image/png:https://aagainesville.org/wp-content/uploads/2025/06/EN-IC25-Chit-Chat-13-1.png
END:VEVENT
BEGIN:VEVENT
DTSTART;VALUE=DATE:20250703
DTEND;VALUE=DATE:20250707
DTSTAMP:20260425T122400
CREATED:20250103T013030Z
LAST-MODIFIED:20250103T013726Z
UID:5672-1751500800-1751846399@aagainesville.org
SUMMARY:Not A Glum Lot Roundup
DESCRIPTION:Not a Glum Lot Roundup Flyer 2
URL:https://aagainesville.org/event/not-a-glum-lot-roundup/
LOCATION:Hilton Charlotte University Place\, 8629 JM Keynes Drive\, Charlotte\, NC\, 28262\, United States
ATTACH;FMTTYPE=image/png:https://aagainesville.org/wp-content/uploads/2025/01/Not-a-Glum-Lot-Roundup-Flyer-2-1.png
END:VEVENT
BEGIN:VEVENT
DTSTART;VALUE=DATE:20250703
DTEND;VALUE=DATE:20250707
DTSTAMP:20260425T122400
CREATED:20240908T215343Z
LAST-MODIFIED:20240909T015255Z
UID:5550-1751500800-1751846399@aagainesville.org
SUMMARY:AA International Convention
DESCRIPTION:Vancouver\, British Columbia\, Canada \nRegistration Opens September 10\, 2024 (Noon EDT) \nhttps://www.aa.org/international-convention
URL:https://aagainesville.org/event/aa-international-convention/
CATEGORIES:Conference
ATTACH;FMTTYPE=image/png:https://aagainesville.org/wp-content/uploads/2024/09/01-IC2025-logo-standard.png
END:VEVENT
BEGIN:VEVENT
DTSTART;VALUE=DATE:20250628
DTEND;VALUE=DATE:20250630
DTSTAMP:20260425T122400
CREATED:20250621T212925Z
LAST-MODIFIED:20250625T015118Z
UID:5793-1751068800-1751241599@aagainesville.org
SUMMARY:Emotional Sobriety Conference
DESCRIPTION:https://us06web.zoom.us/j/88629774556?pwd=IznUdehx44BUI7o9mLBSQoUU0radkE.1
URL:https://aagainesville.org/event/emotional-sobriety-conference/
ATTACH;FMTTYPE=image/jpeg:https://aagainesville.org/wp-content/uploads/2025/06/IMG_20250525_143811.jpg
END:VEVENT
BEGIN:VEVENT
DTSTART;VALUE=DATE:20250620
DTEND;VALUE=DATE:20250623
DTSTAMP:20260425T122400
CREATED:20250404T180937Z
LAST-MODIFIED:20250404T180937Z
UID:5765-1750377600-1750636799@aagainesville.org
SUMMARY:7th Annual Women's Spiritual Retreat: A Journey to Inner Peace
DESCRIPTION:
URL:https://aagainesville.org/event/7th-annual-womens-spiritual-retreat-a-journey-to-inner-peace/
ATTACH;FMTTYPE=image/png:https://aagainesville.org/wp-content/uploads/2025/04/Registration-1.png
END:VEVENT
BEGIN:VEVENT
DTSTART;VALUE=DATE:20250613
DTEND;VALUE=DATE:20250616
DTSTAMP:20260425T122400
CREATED:20250525T012624Z
LAST-MODIFIED:20250525T012624Z
UID:5785-1749772800-1750031999@aagainesville.org
SUMMARY:Founders' Day Florida Style
DESCRIPTION:
URL:https://aagainesville.org/event/founders-day-florida-style/
ATTACH;FMTTYPE=image/png:https://aagainesville.org/wp-content/uploads/2025/05/Founders-Day-Tallahassee-DFS2025Flyer-1.png
END:VEVENT
BEGIN:VEVENT
DTSTART;TZID=America/New_York:20250607T160000
DTEND;TZID=America/New_York:20250607T213000
DTSTAMP:20260425T122400
CREATED:20250513T134404Z
LAST-MODIFIED:20250513T134404Z
UID:5769-1749312000-1749331800@aagainesville.org
SUMMARY:Founders Day - 90 Years
DESCRIPTION:
URL:https://aagainesville.org/event/founders-day-90-years/
LOCATION:Trinity United Methodist Church\, 4000 NW 53rd Ave.\, Gainesville\, FL\, 32653\, United States
ATTACH;FMTTYPE=image/png:https://aagainesville.org/wp-content/uploads/2025/05/PNG-image-6.png
END:VEVENT
BEGIN:VEVENT
DTSTART;TZID=America/New_York:20250526T123000
DTEND;TZID=America/New_York:20250526T150000
DTSTAMP:20260425T122400
CREATED:20250404T175747Z
LAST-MODIFIED:20250404T175747Z
UID:5758-1748262600-1748271600@aagainesville.org
SUMMARY:Memorial Day at Triangle Club
DESCRIPTION:
URL:https://aagainesville.org/event/memorial-day-at-triangle-club/
ATTACH;FMTTYPE=image/png:https://aagainesville.org/wp-content/uploads/2025/04/MEMORIAL-DAY-2025-1.png
END:VEVENT
BEGIN:VEVENT
DTSTART;TZID=America/New_York:20250426T140000
DTEND;TZID=America/New_York:20250426T160000
DTSTAMP:20260425T122400
CREATED:20250404T180528Z
LAST-MODIFIED:20250404T180528Z
UID:5762-1745676000-1745683200@aagainesville.org
SUMMARY:AA Workshop - New Freedom Group
DESCRIPTION:
URL:https://aagainesville.org/event/aa-workshop-new-freedom-group/
ATTACH;FMTTYPE=image/png:https://aagainesville.org/wp-content/uploads/2025/04/Flyer-Carrying_The_Messg-1.png
END:VEVENT
BEGIN:VEVENT
DTSTART;TZID=America/New_York:20250425T160000
DTEND;TZID=America/New_York:20250427T110000
DTSTAMP:20260425T122400
CREATED:20250126T025050Z
LAST-MODIFIED:20250126T025614Z
UID:5694-1745596800-1745751600@aagainesville.org
SUMMARY:Country Round Up
DESCRIPTION:
URL:https://aagainesville.org/event/country-round-up/
LOCATION:Ag Center\, 1424 Jackson Avenue\, Chipley\, FL\, 32428\, United States
ATTACH;FMTTYPE=image/png:https://aagainesville.org/wp-content/uploads/2025/01/28th-Annual-Country-Round-Up-2025-Final-1.png
END:VEVENT
BEGIN:VEVENT
DTSTART;TZID=America/New_York:20250420T110000
DTEND;TZID=America/New_York:20250420T140000
DTSTAMP:20260425T122400
CREATED:20250404T175001Z
LAST-MODIFIED:20250404T175001Z
UID:5755-1745146800-1745157600@aagainesville.org
SUMMARY:Easter Sunday at Triangle Club
DESCRIPTION:
URL:https://aagainesville.org/event/easter-sunday-at-triangle-club/
ATTACH;FMTTYPE=image/png:https://aagainesville.org/wp-content/uploads/2025/04/aa_easter_sunday-1.png
END:VEVENT
BEGIN:VEVENT
DTSTART;VALUE=DATE:20250411
DTEND;VALUE=DATE:20250414
DTSTAMP:20260425T122400
CREATED:20250316T210903Z
LAST-MODIFIED:20250316T210903Z
UID:5730-1744329600-1744588799@aagainesville.org
SUMMARY:Area 14 Assembly
DESCRIPTION:
URL:https://aagainesville.org/event/area-14-assembly/
ATTACH;FMTTYPE=image/png:https://aagainesville.org/wp-content/uploads/2025/03/Area-Assembly-Flyer-1-1.png
END:VEVENT
BEGIN:VEVENT
DTSTART;TZID=America/New_York:20250405T140000
DTEND;TZID=America/New_York:20250405T160000
DTSTAMP:20260425T122400
CREATED:20250316T213356Z
LAST-MODIFIED:20250316T213356Z
UID:5741-1743861600-1743868800@aagainesville.org
SUMMARY:Pre-conference Workshop
DESCRIPTION:
URL:https://aagainesville.org/event/pre-conference-workshop-2/
ATTACH;FMTTYPE=image/png:https://aagainesville.org/wp-content/uploads/2025/03/Preconference-2025-1.png
END:VEVENT
BEGIN:VEVENT
DTSTART;VALUE=DATE:20250314
DTEND;VALUE=DATE:20250317
DTSTAMP:20260425T122400
CREATED:20250222T032241Z
LAST-MODIFIED:20250222T032241Z
UID:5718-1741910400-1742169599@aagainesville.org
SUMMARY:2025 Unity Under the Stars Campout
DESCRIPTION:
URL:https://aagainesville.org/event/2025-unity-under-the-stars-campout/
LOCATION:Doe Lake – Umatilla Florida
CATEGORIES:Retreat
ATTACH;FMTTYPE=image/jpeg:https://aagainesville.org/wp-content/uploads/2025/02/2025_flyer.jpg
END:VEVENT
BEGIN:VEVENT
DTSTART;VALUE=DATE:20250314
DTEND;VALUE=DATE:20250317
DTSTAMP:20260425T122400
CREATED:20250217T024016Z
LAST-MODIFIED:20250217T024016Z
UID:5713-1741910400-1742169599@aagainesville.org
SUMMARY:Soberstock 2025
DESCRIPTION:
URL:https://aagainesville.org/event/soberstock-2025/
ATTACH;FMTTYPE=image/jpeg:https://aagainesville.org/wp-content/uploads/2025/02/Soberstock-2025-Flyer-scaled.jpg
END:VEVENT
BEGIN:VEVENT
DTSTART;VALUE=DATE:20250308
DTEND;VALUE=DATE:20250406
DTSTAMP:20260425T122400
CREATED:20250316T211521Z
LAST-MODIFIED:20250316T211521Z
UID:5737-1741392000-1743897599@aagainesville.org
SUMMARY:General Service Conference Pre-Conference
DESCRIPTION:
URL:https://aagainesville.org/event/general-service-conference-pre-conference/
ATTACH;FMTTYPE=image/png:https://aagainesville.org/wp-content/uploads/2025/03/2025-0220-Flyer-all-workshops-1-1.png
END:VEVENT
BEGIN:VEVENT
DTSTART;VALUE=DATE:20250124
DTEND;VALUE=DATE:20250127
DTSTAMP:20260425T122400
CREATED:20241125T030538Z
LAST-MODIFIED:20241125T030538Z
UID:5634-1737676800-1737935999@aagainesville.org
SUMMARY:Southern States Women's Conference
DESCRIPTION:
URL:https://aagainesville.org/event/southern-states-womens-conference/
LOCATION:Hyatt Riverfront Jacksonville\, 225 E Coastline Drive\, Jacksonville\, FL\, 32202\, United States
ATTACH;FMTTYPE=image/png:https://aagainesville.org/wp-content/uploads/2024/11/2025-Flier.png
END:VEVENT
BEGIN:VEVENT
DTSTART;TZID=America/New_York:20250111T160000
DTEND;TZID=America/New_York:20250111T200000
DTSTAMP:20260425T122400
CREATED:20241125T030656Z
LAST-MODIFIED:20241125T030859Z
UID:5637-1736611200-1736625600@aagainesville.org
SUMMARY:18th Annual Spaghetti Dinner
DESCRIPTION:
URL:https://aagainesville.org/event/17th-annual-spaghetti-dinner/
LOCATION:National Guard Armory\, 720 Edwards Road\, Starke\, FL\, 32091\, United States
ATTACH;FMTTYPE=image/png:https://aagainesville.org/wp-content/uploads/2024/11/Lawtey-primary-purpose-group_20241112_100712_0000.png
END:VEVENT
BEGIN:VEVENT
DTSTART;TZID=America/New_York:20241231T123000
DTEND;TZID=America/New_York:20250101T123000
DTSTAMP:20260425T122400
CREATED:20241220T011451Z
LAST-MODIFIED:20241220T011451Z
UID:5663-1735648200-1735734600@aagainesville.org
SUMMARY:Alkathon
DESCRIPTION:INTERGROUP ALKATHON MEETING SCHEDULE\nMeetings around the clock @ the Triangle Club!\nGroups covering Alkathon – rent is paid by Intergroup!\n(Please don’t pass the basket)\nFree Coffee @ the Coffee Bar \nTuesday\, 12/31/24\n12:30 pm New Life\n2:00 pm 10 th &amp; 11 th Step\n3:30 pm YPG\n5:30 pm Gratitude\n7:00 pm Queer and Sober\n8:30 pm Downtown Group (Birthday Night!)\n10:00 pm New Freedom\n11:30 pm – 12:30 am New Year’s Party\nWednesday\, 1/1/25 Happy New Year\n1:00 am Tues Night Step Study\n2:30 am Free to Be\n4:00 am 4th Dimension\n5:30 am By the Book\n7:00 am Eye Opener\n8:30 am AAA\n10:00 am Sisters in Sobriety\n11:30 am- 12:30 pm Women’s Big Book Study Jonesville\n12:30 pm New Life
URL:https://aagainesville.org/event/alkathon/
LOCATION:Triangle Club\, 1005 SE 4th Ave.\, Gainesville\, Florida
END:VEVENT
END:VCALENDAR