BEGIN:VCALENDAR
VERSION:2.0
PRODID:-//North Central Florida Alcoholics Anonymous - ECPv6.15.20//NONSGML v1.0//EN
CALSCALE:GREGORIAN
METHOD:PUBLISH
X-WR-CALNAME:North Central Florida Alcoholics Anonymous
X-ORIGINAL-URL:https://aagainesville.org
X-WR-CALDESC:Events for North Central Florida Alcoholics Anonymous
REFRESH-INTERVAL;VALUE=DURATION:PT1H
X-Robots-Tag:noindex
X-PUBLISHED-TTL:PT1H
BEGIN:VTIMEZONE
TZID:America/New_York
BEGIN:DAYLIGHT
TZOFFSETFROM:-0500
TZOFFSETTO:-0400
TZNAME:EDT
DTSTART:20230312T070000
END:DAYLIGHT
BEGIN:STANDARD
TZOFFSETFROM:-0400
TZOFFSETTO:-0500
TZNAME:EST
DTSTART:20231105T060000
END:STANDARD
BEGIN:DAYLIGHT
TZOFFSETFROM:-0500
TZOFFSETTO:-0400
TZNAME:EDT
DTSTART:20240310T070000
END:DAYLIGHT
BEGIN:STANDARD
TZOFFSETFROM:-0400
TZOFFSETTO:-0500
TZNAME:EST
DTSTART:20241103T060000
END:STANDARD
BEGIN:DAYLIGHT
TZOFFSETFROM:-0500
TZOFFSETTO:-0400
TZNAME:EDT
DTSTART:20250309T070000
END:DAYLIGHT
BEGIN:STANDARD
TZOFFSETFROM:-0400
TZOFFSETTO:-0500
TZNAME:EST
DTSTART:20251102T060000
END:STANDARD
BEGIN:DAYLIGHT
TZOFFSETFROM:-0500
TZOFFSETTO:-0400
TZNAME:EDT
DTSTART:20260308T070000
END:DAYLIGHT
BEGIN:STANDARD
TZOFFSETFROM:-0400
TZOFFSETTO:-0500
TZNAME:EST
DTSTART:20261101T060000
END:STANDARD
END:VTIMEZONE
BEGIN:VEVENT
DTSTART;VALUE=DATE:20250308
DTEND;VALUE=DATE:20250406
DTSTAMP:20260425T120618
CREATED:20250316T211521Z
LAST-MODIFIED:20250316T211521Z
UID:5737-1741392000-1743897599@aagainesville.org
SUMMARY:General Service Conference Pre-Conference
DESCRIPTION:
URL:https://aagainesville.org/event/general-service-conference-pre-conference/
ATTACH;FMTTYPE=image/png:https://aagainesville.org/wp-content/uploads/2025/03/2025-0220-Flyer-all-workshops-1-1.png
END:VEVENT
BEGIN:VEVENT
DTSTART;VALUE=DATE:20250124
DTEND;VALUE=DATE:20250127
DTSTAMP:20260425T120618
CREATED:20241125T030538Z
LAST-MODIFIED:20241125T030538Z
UID:5634-1737676800-1737935999@aagainesville.org
SUMMARY:Southern States Women's Conference
DESCRIPTION:
URL:https://aagainesville.org/event/southern-states-womens-conference/
LOCATION:Hyatt Riverfront Jacksonville\, 225 E Coastline Drive\, Jacksonville\, FL\, 32202\, United States
ATTACH;FMTTYPE=image/png:https://aagainesville.org/wp-content/uploads/2024/11/2025-Flier.png
END:VEVENT
BEGIN:VEVENT
DTSTART;TZID=America/New_York:20250111T160000
DTEND;TZID=America/New_York:20250111T200000
DTSTAMP:20260425T120618
CREATED:20241125T030656Z
LAST-MODIFIED:20241125T030859Z
UID:5637-1736611200-1736625600@aagainesville.org
SUMMARY:18th Annual Spaghetti Dinner
DESCRIPTION:
URL:https://aagainesville.org/event/17th-annual-spaghetti-dinner/
LOCATION:National Guard Armory\, 720 Edwards Road\, Starke\, FL\, 32091\, United States
ATTACH;FMTTYPE=image/png:https://aagainesville.org/wp-content/uploads/2024/11/Lawtey-primary-purpose-group_20241112_100712_0000.png
END:VEVENT
BEGIN:VEVENT
DTSTART;TZID=America/New_York:20241231T123000
DTEND;TZID=America/New_York:20250101T123000
DTSTAMP:20260425T120618
CREATED:20241220T011451Z
LAST-MODIFIED:20241220T011451Z
UID:5663-1735648200-1735734600@aagainesville.org
SUMMARY:Alkathon
DESCRIPTION:INTERGROUP ALKATHON MEETING SCHEDULE\nMeetings around the clock @ the Triangle Club!\nGroups covering Alkathon – rent is paid by Intergroup!\n(Please don’t pass the basket)\nFree Coffee @ the Coffee Bar \nTuesday\, 12/31/24\n12:30 pm New Life\n2:00 pm 10 th &amp; 11 th Step\n3:30 pm YPG\n5:30 pm Gratitude\n7:00 pm Queer and Sober\n8:30 pm Downtown Group (Birthday Night!)\n10:00 pm New Freedom\n11:30 pm – 12:30 am New Year’s Party\nWednesday\, 1/1/25 Happy New Year\n1:00 am Tues Night Step Study\n2:30 am Free to Be\n4:00 am 4th Dimension\n5:30 am By the Book\n7:00 am Eye Opener\n8:30 am AAA\n10:00 am Sisters in Sobriety\n11:30 am- 12:30 pm Women’s Big Book Study Jonesville\n12:30 pm New Life
URL:https://aagainesville.org/event/alkathon/
LOCATION:Triangle Club\, 1005 SE 4th Ave.\, Gainesville\, Florida
END:VEVENT
END:VCALENDAR